BEGIN:VCALENDAR
VERSION:2.0
PRODID:-//ExpressionEngine Easy iCalendar plugin//NONSGML v2.0.0//EN
X-WR-TIMEZONE:America/Chicago
X-WR-CALNAME:Upcoming Auctions
BEGIN:VEVENT
UID:159174
DTSTAMP:20260407T100000
DTSTART:20260407T100000
DTEND:20260512T100000
SUMMARY:Online Only Container\, Equipment & Tool Auction
LOCATION:230 Ridgeland Avenue\, Fremont\, NE 68025\, US
DESCRIPTION:ADDITIONAL LOTS ADDED DAILY! |  Online Bidding Only | Biddi
 ng Ends: Tuesday\, May 12\, 2026 | Assets located in Fremont\, 
 NE
URL:https://www.nitzauctions.com/auctions/detail/bw159174
SEQUENCE:1
END:VEVENT
END:VCALENDAR